BEGIN:VCALENDAR
VERSION:2.0
PRODID:-//Autism Science Foundation - ECPv6.15.20//NONSGML v1.0//EN
CALSCALE:GREGORIAN
METHOD:PUBLISH
X-WR-CALNAME:Autism Science Foundation
X-ORIGINAL-URL:https://autismsciencefoundation.org
X-WR-CALDESC:Events for Autism Science Foundation
REFRESH-INTERVAL;VALUE=DURATION:PT1H
X-Robots-Tag:noindex
X-PUBLISHED-TTL:PT1H
BEGIN:VTIMEZONE
TZID:UTC
BEGIN:STANDARD
TZOFFSETFROM:+0000
TZOFFSETTO:+0000
TZNAME:UTC
DTSTART:20200101T000000
END:STANDARD
END:VTIMEZONE
BEGIN:VTIMEZONE
TZID:America/New_York
BEGIN:DAYLIGHT
TZOFFSETFROM:-0500
TZOFFSETTO:-0400
TZNAME:EDT
DTSTART:20210314T070000
END:DAYLIGHT
BEGIN:STANDARD
TZOFFSETFROM:-0400
TZOFFSETTO:-0500
TZNAME:EST
DTSTART:20211107T060000
END:STANDARD
BEGIN:DAYLIGHT
TZOFFSETFROM:-0500
TZOFFSETTO:-0400
TZNAME:EDT
DTSTART:20220313T070000
END:DAYLIGHT
BEGIN:STANDARD
TZOFFSETFROM:-0400
TZOFFSETTO:-0500
TZNAME:EST
DTSTART:20221106T060000
END:STANDARD
BEGIN:DAYLIGHT
TZOFFSETFROM:-0500
TZOFFSETTO:-0400
TZNAME:EDT
DTSTART:20230312T070000
END:DAYLIGHT
BEGIN:STANDARD
TZOFFSETFROM:-0400
TZOFFSETTO:-0500
TZNAME:EST
DTSTART:20231105T060000
END:STANDARD
END:VTIMEZONE
BEGIN:VEVENT
DTSTART;TZID=UTC:20220330T103000
DTEND;TZID=UTC:20220330T150000
DTSTAMP:20260420T213225
CREATED:20210919T203707Z
LAST-MODIFIED:20220131T212441Z
UID:4462-1648636200-1648652400@autismsciencefoundation.org
SUMMARY:9th Annual Day of Learning
DESCRIPTION:Location: New York Athletic Club and online
URL:https://autismsciencefoundation.org/event/9th-day-of-learning/
CATEGORIES:Day of Learning
ATTACH;FMTTYPE=image/jpeg:https://autismsciencefoundation.org/wp-content/uploads/2021/09/ASF_21_DOL_Logo_8x8_REL110821.jpg
END:VEVENT
BEGIN:VEVENT
DTSTART;TZID=America/New_York:20220303T183000
DTEND;TZID=America/New_York:20220303T193000
DTSTAMP:20260420T213225
CREATED:20220216T194723Z
LAST-MODIFIED:20220216T194906Z
UID:11357-1646332200-1646335800@autismsciencefoundation.org
SUMMARY:Sam's Sibs Stick Together: Webinar
DESCRIPTION:Please join us on Thursday\, March 3 at 6:30 p.m. ET for the latest “Sam’s Sibs Stick Together” webinar series. Walter Suskind\, Founder & Executive Director of SibStrong\, will discuss how the organization connects and provides support and resources for siblings of people with autism and their families.
URL:https://autismsciencefoundation.org/event/sams-sibs-stick-together/
ATTACH;FMTTYPE=image/jpeg:https://autismsciencefoundation.org/wp-content/uploads/2022/02/273749417_310205187809554_6885384414806604925_n.jpg
END:VEVENT
BEGIN:VEVENT
DTSTART;TZID=UTC:20211002T080000
DTEND;TZID=UTC:20211011T170000
DTSTAMP:20260420T213225
CREATED:20211019T203703Z
LAST-MODIFIED:20211020T150512Z
UID:4461-1633161600-1633971600@autismsciencefoundation.org
SUMMARY:7th Annual Wall Street FAR
DESCRIPTION:Saxon Woods Park\, White Plains\, NY—or go virtual! \nRegister here
URL:https://autismsciencefoundation.org/event/7th-annual-wall-street-far/
ATTACH;FMTTYPE=image/jpeg:https://autismsciencefoundation.org/wp-content/uploads/2021/10/Wall-Street-Rides-FAR-logo.jpg
END:VEVENT
END:VCALENDAR