BEGIN:VCALENDAR
VERSION:2.0
PRODID:-//Autism Science Foundation - ECPv6.15.20//NONSGML v1.0//EN
CALSCALE:GREGORIAN
METHOD:PUBLISH
X-ORIGINAL-URL:https://autismsciencefoundation.org
X-WR-CALDESC:Events for Autism Science Foundation
REFRESH-INTERVAL;VALUE=DURATION:PT1H
X-Robots-Tag:noindex
X-PUBLISHED-TTL:PT1H
BEGIN:VTIMEZONE
TZID:UTC
BEGIN:STANDARD
TZOFFSETFROM:+0000
TZOFFSETTO:+0000
TZNAME:UTC
DTSTART:20220101T000000
END:STANDARD
END:VTIMEZONE
BEGIN:VEVENT
DTSTART;TZID=UTC:20231216T183000
DTEND;TZID=UTC:20231216T200000
DTSTAMP:20260420T175555
CREATED:20231127T174043Z
LAST-MODIFIED:20231127T174056Z
UID:12958-1702751400-1702756800@autismsciencefoundation.org
SUMMARY:Sam's Sibs Stick Together
DESCRIPTION:
URL:https://autismsciencefoundation.org/event/sams-sibs-stick-together-2/
LOCATION:Zoom
ATTACH;FMTTYPE=image/jpeg:https://autismsciencefoundation.org/wp-content/uploads/2023/11/406209425_758014706361931_4637264997663862450_n.jpg
END:VEVENT
END:VCALENDAR